BEGIN:VCALENDAR
VERSION:2.0
PRODID:icalendar-ruby
CALSCALE:GREGORIAN
METHOD:PUBLISH
BEGIN:VEVENT
DTSTAMP:20260425T142524Z
UID:32-200076@spbcmemphis.org
DTSTART:20260502T140000Z
DTEND:20260502T160000Z
CLASS:PUBLIC
CREATED:20260412T081439
DESCRIPTION:The Women’s Ministry will be hosting two signature events du
 ring the month of May. On Saturday\, May 2nd\, the ministry will be hostin
 g a Prayer Breakfast at 9am in the Fellowship Hall and on Friday\, May 15t
 h\, the ministry will be hosting an Exhale Party. Registration for both ev
 ents is $25 individually. However\, if you register for both events\, you 
 can attend for the combined price of $40.  Please click the link below to
  sign-up today.
LAST-MODIFIED:20260412T081439
LOCATION:Fellowship Hall
SUMMARY:Women's Prayer Breakfast
URL;VALUE=URI:https://www.spbcmemphis.org/events/womens-prayer-breakfast/20
 26-05-02
ATTACH;FILENAME=ChatGPT-Image-Apr-12-2026-08_14_17-AM.png;FMTTYPE=image/png
 :https://dq5pwpg1q8ru0.cloudfront.net/2026/04/12/13/14/39/dc2fa59a-ae54-45
 df-9022-1527f3d69482/ChatGPT-Image-Apr-12-2026-08_14_17-AM.png
END:VEVENT
END:VCALENDAR
