BEGIN:VCALENDAR
VERSION:2.0
PRODID:icalendar-ruby
CALSCALE:GREGORIAN
METHOD:PUBLISH
BEGIN:VEVENT
DTSTAMP:20260425T155341Z
UID:33-200075@spbcmemphis.org
DTSTART:20260515T230000Z
DTEND:20260516T010000Z
CLASS:PUBLIC
CREATED:20260412T081328
DESCRIPTION:The Women’s Ministry will be hosting two signature events du
 ring the month of May. On Saturday\, May 2nd\, the ministry will be hostin
 g a Prayer Breakfast at 9am in the Fellowship Hall and on Friday\, May 15t
 h\, the ministry will be hosting an Exhale Party. Registration for both ev
 ents is $25 individually. However\, if you register for both events\, you 
 can attend for the combined price of $40.  Please click the link below to
  sign-up today.
LAST-MODIFIED:20260412T081328
LOCATION:Fellowship Hall
SUMMARY:Exhale Party
URL;VALUE=URI:https://www.spbcmemphis.org/events/exhale-party/2026-05-15
ATTACH;FILENAME=ChatGPT-Image-Apr-12-2026-08_12_31-AM.png;FMTTYPE=image/png
 :https://dq5pwpg1q8ru0.cloudfront.net/2026/04/12/13/13/27/9ff34922-a722-4b
 98-881a-f963dd72aa31/ChatGPT-Image-Apr-12-2026-08_12_31-AM.png
END:VEVENT
END:VCALENDAR
